BEGIN:VCALENDAR
VERSION:2.0
PRODID:-//hacksw/handcal//NONSGML v1.0//EN
CALSCALE:GREGORIAN
X-WR-TIMEZONE:Europe/Vienna
BEGIN:VEVENT
DESCRIPTION:Europarkova ekološka tržnica
DTSTART:20260429T140000
DTEND:20260429T190000
URL;VALUE=URI:https://www.europark.si/si/events/europarkova-ekoloska-trznica/2026-04-29
SUMMARY:Europarkova ekološka tržnica
DTSTAMP:20260423T085056
UID:69e9dd7013436
END:VEVENT
END:VCALENDAR